Package: alabaster.schemas Version: 1.11.0 Command: /Library/Frameworks/R.framework/Resources/bin/R CMD INSTALL alabaster.schemas StartedAt: 2025-11-16 15:02:25 -0500 (Sun, 16 Nov 2025) EndedAt: 2025-11-16 15:02:32 -0500 (Sun, 16 Nov 2025) EllapsedTime: 7.2 seconds RetCode: 0 Status: OK