Package: alabaster.sce Version: 1.11.0 Command: /home/biocbuild/bbs-3.23-bioc/R/bin/R CMD INSTALL alabaster.sce StartedAt: 2025-11-21 15:34:38 -0500 (Fri, 21 Nov 2025) EndedAt: 2025-11-21 15:35:07 -0500 (Fri, 21 Nov 2025) EllapsedTime: 29.0 seconds RetCode: 0 Status: OK