Package: alabaster.sce Version: 1.11.0 Command: /Library/Frameworks/R.framework/Resources/bin/R CMD INSTALL alabaster.sce StartedAt: 2025-11-13 15:12:40 -0500 (Thu, 13 Nov 2025) EndedAt: 2025-11-13 15:12:52 -0500 (Thu, 13 Nov 2025) EllapsedTime: 11.0 seconds RetCode: 0 Status: OK