Package: alabaster.sce Version: 1.11.0 Command: /Library/Frameworks/R.framework/Resources/bin/R CMD build --keep-empty-dirs --no-resave-data alabaster.sce StartedAt: 2025-11-13 15:39:34 -0500 (Thu, 13 Nov 2025) EndedAt: 2025-11-13 15:39:50 -0500 (Thu, 13 Nov 2025) EllapsedTime: 16.2 seconds RetCode: 0 Status: OK PackageFile: alabaster.sce_1.11.0.tar.gz PackageFileSize: 220.2 KiB