Package: alabaster.sce Version: 1.11.0 Command: rm -rf alabaster.sce.buildbin-libdir && mkdir alabaster.sce.buildbin-libdir && /Users/biocbuild/BBS/utils/build-universal.sh alabaster.sce_1.11.0.tar.gz /Library/Frameworks/R.framework/Resources/bin/R alabaster.sce.buildbin-libdir StartedAt: 2025-11-13 23:27:08 -0500 (Thu, 13 Nov 2025) EndedAt: 2025-11-13 23:27:23 -0500 (Thu, 13 Nov 2025) EllapsedTime: 14.2 seconds RetCode: 0 Status: OK PackageFile: alabaster.sce_1.11.0.tgz PackageFileSize: 335.4 KiB