Package: alabaster.ranges Version: 1.11.0 Command: /home/biocbuild/bbs-3.23-bioc/R/bin/R CMD INSTALL alabaster.ranges StartedAt: 2025-11-13 15:15:22 -0500 (Thu, 13 Nov 2025) EndedAt: 2025-11-13 15:15:32 -0500 (Thu, 13 Nov 2025) EllapsedTime: 9.8 seconds RetCode: 0 Status: OK