Package: alabaster.ranges Version: 1.11.0 Command: /home/biocbuild/bbs-3.23-bioc/R/bin/R CMD build --keep-empty-dirs --no-resave-data alabaster.ranges StartedAt: 2025-11-13 16:09:47 -0500 (Thu, 13 Nov 2025) EndedAt: 2025-11-13 16:10:02 -0500 (Thu, 13 Nov 2025) EllapsedTime: 15.0 seconds RetCode: 0 Status: OK PackageFile: alabaster.ranges_1.11.0.tar.gz PackageFileSize: 225.6 KiB