Package: alabaster.ranges Version: 1.11.0 Command: /Library/Frameworks/R.framework/Resources/bin/R CMD INSTALL alabaster.ranges StartedAt: 2025-11-13 15:10:22 -0500 (Thu, 13 Nov 2025) EndedAt: 2025-11-13 15:10:27 -0500 (Thu, 13 Nov 2025) EllapsedTime: 4.3 seconds RetCode: 0 Status: OK