############################################################################## ############################################################################## ### ### Running command: ### ### /Library/Frameworks/R.framework/Resources/bin/R CMD build --keep-empty-dirs --no-resave-data alabaster.ranges ### ############################################################################## ############################################################################## * checking for file ‘alabaster.ranges/DESCRIPTION’ ... OK * preparing ‘alabaster.ranges’: * checking DESCRIPTION meta-information ... OK * installing the package (it is needed to build vignettes) ----------------------------------- ERROR: dependencies ‘alabaster.base’, ‘rhdf5’ are not available for package ‘alabaster.ranges’ Perhaps try a variation of: install.packages(c('alabaster.base', 'rhdf5')) * removing ‘/private/var/folders/r0/l4fjk6cj5xj0j3brt4bplpl40000gt/T/Rtmpgv9dFL/Rinst7de121faec3b/alabaster.ranges’ ----------------------------------- ERROR: package installation failed