Package: alabaster.matrix Version: 1.11.0 Command: /home/biocbuild/bbs-3.23-bioc/R/bin/R CMD INSTALL alabaster.matrix StartedAt: 2025-11-14 15:36:45 -0500 (Fri, 14 Nov 2025) EndedAt: 2025-11-14 15:37:13 -0500 (Fri, 14 Nov 2025) EllapsedTime: 27.8 seconds RetCode: 0 Status: OK