Package: alabaster.matrix Version: 1.11.0 Command: /home/biocbuild/bbs-3.23-bioc/R/bin/R CMD check --install=check:alabaster.matrix.install-out.txt --library=/home/biocbuild/bbs-3.23-bioc/R/site-library --timings alabaster.matrix_1.11.0.tar.gz StartedAt: 2025-11-14 20:56:47 -0500 (Fri, 14 Nov 2025) EndedAt: 2025-11-14 21:00:42 -0500 (Fri, 14 Nov 2025) EllapsedTime: 235.4 seconds RetCode: 0 Status: OK CheckDir: alabaster.matrix.Rcheck Warnings: 0