Package: alabaster.matrix Version: 1.11.0 Command: /home/biocbuild/bbs-3.23-bioc/R/bin/R CMD build --keep-empty-dirs --no-resave-data alabaster.matrix StartedAt: 2025-11-14 16:10:27 -0500 (Fri, 14 Nov 2025) EndedAt: 2025-11-14 16:11:03 -0500 (Fri, 14 Nov 2025) EllapsedTime: 36.1 seconds RetCode: 0 Status: OK PackageFile: alabaster.matrix_1.11.0.tar.gz PackageFileSize: 274.5 KiB