############################################################################## ############################################################################## ### ### Running command: ### ### /Library/Frameworks/R.framework/Resources/bin/R CMD INSTALL alabaster.matrix ### ############################################################################## ############################################################################## * installing to library ‘/Library/Frameworks/R.framework/Versions/4.6-arm64/Resources/library’ ERROR: dependencies ‘alabaster.base’, ‘rhdf5’, ‘HDF5Array’ are not available for package ‘alabaster.matrix’ Perhaps try a variation of: install.packages(c('alabaster.base', 'rhdf5', 'HDF5Array')) * removing ‘/Library/Frameworks/R.framework/Versions/4.6-arm64/Resources/library/alabaster.matrix’