Package: alabaster.files Version: 1.9.0 Command: rm -rf alabaster.files.buildbin-libdir && mkdir alabaster.files.buildbin-libdir && /Users/biocbuild/BBS/utils/build-universal.sh alabaster.files_1.9.0.tar.gz /Library/Frameworks/R.framework/Resources/bin/R alabaster.files.buildbin-libdir StartedAt: 2025-11-14 23:22:07 -0500 (Fri, 14 Nov 2025) EndedAt: 2025-11-14 23:22:15 -0500 (Fri, 14 Nov 2025) EllapsedTime: 8.1 seconds RetCode: 0 Status: OK PackageFile: alabaster.files_1.9.0.tgz PackageFileSize: 569.7 KiB