Package: alabaster.files Version: 1.9.0 Maintainer: Aaron Lun MaintainerEmail: infinite.monkeys.with.keyboards at gmail.com git_url: https://git.bioconductor.org/packages/alabaster.files git_branch: devel git_last_commit: 32a02ee git_last_commit_date: 2025-10-29 11:24:01 -0500 (Wed, 29 Oct 2025)