Package: alabaster.bumpy Version: 1.11.0 Command: /home/biocbuild/bbs-3.23-bioc/R/bin/R CMD INSTALL alabaster.bumpy StartedAt: 2025-11-11 15:28:33 -0500 (Tue, 11 Nov 2025) EndedAt: 2025-11-11 15:28:45 -0500 (Tue, 11 Nov 2025) EllapsedTime: 12.4 seconds RetCode: 0 Status: OK