Package: alabaster.bumpy Version: 1.11.0 Command: /home/biocbuild/bbs-3.23-bioc/R/bin/R CMD build --keep-empty-dirs --no-resave-data alabaster.bumpy StartedAt: 2025-11-11 16:13:01 -0500 (Tue, 11 Nov 2025) EndedAt: 2025-11-11 16:13:19 -0500 (Tue, 11 Nov 2025) EllapsedTime: 18.0 seconds RetCode: 0 Status: OK PackageFile: alabaster.bumpy_1.11.0.tar.gz PackageFileSize: 235.5 KiB