Package: alabaster.bumpy Version: 1.11.0 Command: /Library/Frameworks/R.framework/Resources/bin/R CMD build --keep-empty-dirs --no-resave-data alabaster.bumpy StartedAt: 2025-11-13 15:39:26 -0500 (Thu, 13 Nov 2025) EndedAt: 2025-11-13 15:39:33 -0500 (Thu, 13 Nov 2025) EllapsedTime: 7.1 seconds RetCode: 0 Status: OK PackageFile: alabaster.bumpy_1.11.0.tar.gz PackageFileSize: 235.4 KiB