############################################################################## ############################################################################## ### ### Running command: ### ### /Library/Frameworks/R.framework/Resources/bin/R CMD build --keep-empty-dirs --no-resave-data alabaster.bumpy ### ############################################################################## ############################################################################## * checking for file ‘alabaster.bumpy/DESCRIPTION’ ... OK * preparing ‘alabaster.bumpy’: * checking DESCRIPTION meta-information ... OK * installing the package (it is needed to build vignettes) ----------------------------------- ERROR: dependencies ‘alabaster.base’, ‘rhdf5’ are not available for package ‘alabaster.bumpy’ Perhaps try a variation of: install.packages(c('alabaster.base', 'rhdf5')) * removing ‘/private/var/folders/r0/l4fjk6cj5xj0j3brt4bplpl40000gt/T/Rtmp1Gd6WZ/Rinst76c129115c3/alabaster.bumpy’ ----------------------------------- ERROR: package installation failed