Package: alabaster.base Version: 1.11.1 Command: /home/biocbuild/bbs-3.23-bioc/R/bin/R CMD INSTALL alabaster.base StartedAt: 2025-11-11 15:17:56 -0500 (Tue, 11 Nov 2025) EndedAt: 2025-11-11 15:19:19 -0500 (Tue, 11 Nov 2025) EllapsedTime: 83.2 seconds RetCode: 0 Status: OK