Package: alabaster.base Version: 1.11.1 Command: /home/biocbuild/bbs-3.23-bioc/R/bin/R CMD build --keep-empty-dirs --no-resave-data alabaster.base StartedAt: 2025-11-11 16:13:01 -0500 (Tue, 11 Nov 2025) EndedAt: 2025-11-11 16:14:34 -0500 (Tue, 11 Nov 2025) EllapsedTime: 93.1 seconds RetCode: 0 Status: OK PackageFile: alabaster.base_1.11.1.tar.gz PackageFileSize: 330.6 KiB