Package: alabaster.base Version: 1.11.1 Command: /Library/Frameworks/R.framework/Resources/bin/R CMD INSTALL alabaster.base StartedAt: 2025-11-12 15:22:54 -0500 (Wed, 12 Nov 2025) EndedAt: 2025-11-12 15:22:55 -0500 (Wed, 12 Nov 2025) EllapsedTime: 1.8 seconds RetCode: 1 Status: ERROR