############################################################################## ############################################################################## ### ### Running command: ### ### /Library/Frameworks/R.framework/Resources/bin/R CMD build --keep-empty-dirs --no-resave-data alabaster.base ### ############################################################################## ############################################################################## * checking for file ‘alabaster.base/DESCRIPTION’ ... OK * preparing ‘alabaster.base’: * checking DESCRIPTION meta-information ... OK * cleaning src * installing the package (it is needed to build vignettes) ----------------------------------- ERROR: dependencies ‘rhdf5’, ‘Rhdf5lib’ are not available for package ‘alabaster.base’ Perhaps try a variation of: install.packages(c('rhdf5', 'Rhdf5lib')) * removing ‘/private/var/folders/r0/l4fjk6cj5xj0j3brt4bplpl40000gt/T/RtmpK6Oe9V/Rinst752f6155760/alabaster.base’ ----------------------------------- ERROR: package installation failed