Package: alabaster.base Version: 1.11.1 Maintainer: Aaron Lun MaintainerEmail: infinite.monkeys.with.keyboards at gmail.com git_url: https://git.bioconductor.org/packages/alabaster.base git_branch: devel git_last_commit: 1d97e98 git_last_commit_date: 2025-11-03 02:55:31 -0500 (Mon, 03 Nov 2025)