Package: agilp Version: 3.43.0 Command: /home/biocbuild/bbs-3.23-bioc/R/bin/R CMD INSTALL agilp StartedAt: 2025-11-13 15:02:02 -0500 (Thu, 13 Nov 2025) EndedAt: 2025-11-13 15:02:11 -0500 (Thu, 13 Nov 2025) EllapsedTime: 9.0 seconds RetCode: 0 Status: OK