Package: agilp Version: 3.43.0 Command: /home/biocbuild/bbs-3.23-bioc/R/bin/R CMD build --keep-empty-dirs --no-resave-data agilp StartedAt: 2025-11-13 16:08:47 -0500 (Thu, 13 Nov 2025) EndedAt: 2025-11-13 16:08:52 -0500 (Thu, 13 Nov 2025) EllapsedTime: 5.0 seconds RetCode: 0 Status: OK PackageFile: agilp_3.43.0.tar.gz PackageFileSize: 453.1 KiB