Package: agilp Version: 3.43.0 Command: /Library/Frameworks/R.framework/Resources/bin/R CMD build --keep-empty-dirs --no-resave-data agilp StartedAt: 2025-11-13 15:39:04 -0500 (Thu, 13 Nov 2025) EndedAt: 2025-11-13 15:39:08 -0500 (Thu, 13 Nov 2025) EllapsedTime: 4.0 seconds RetCode: 0 Status: OK PackageFile: agilp_3.43.0.tar.gz PackageFileSize: 454.1 KiB