Package: agilp Version: 3.43.0 Command: rm -rf agilp.buildbin-libdir && mkdir agilp.buildbin-libdir && /Users/biocbuild/BBS/utils/build-universal.sh agilp_3.43.0.tar.gz /Library/Frameworks/R.framework/Resources/bin/R agilp.buildbin-libdir StartedAt: 2025-11-13 23:26:59 -0500 (Thu, 13 Nov 2025) EndedAt: 2025-11-13 23:27:01 -0500 (Thu, 13 Nov 2025) EllapsedTime: 2.1 seconds RetCode: 0 Status: OK PackageFile: agilp_3.43.0.tgz PackageFileSize: 490.1 KiB