Package: agilp Version: 3.43.0 Maintainer: Benny Chain MaintainerEmail: b.chain at ucl.ac.uk git_url: https://git.bioconductor.org/packages/agilp git_branch: devel git_last_commit: 527412b git_last_commit_date: 2025-10-29 10:12:19 -0500 (Wed, 29 Oct 2025)