Package: aggregateBioVar Version: 1.21.0 Command: /home/biocbuild/bbs-3.23-bioc/R/bin/R CMD INSTALL aggregateBioVar StartedAt: 2025-11-13 15:19:21 -0500 (Thu, 13 Nov 2025) EndedAt: 2025-11-13 15:19:43 -0500 (Thu, 13 Nov 2025) EllapsedTime: 22.1 seconds RetCode: 0 Status: OK