Package: aggregateBioVar Version: 1.21.0 Command: /home/biocbuild/bbs-3.23-bioc/R/bin/R CMD check --install=check:aggregateBioVar.install-out.txt --library=/home/biocbuild/bbs-3.23-bioc/R/site-library --timings aggregateBioVar_1.21.0.tar.gz StartedAt: 2025-11-14 20:55:24 -0500 (Fri, 14 Nov 2025) EndedAt: 2025-11-14 20:59:14 -0500 (Fri, 14 Nov 2025) EllapsedTime: 229.4 seconds RetCode: 0 Status: OK CheckDir: aggregateBioVar.Rcheck Warnings: 0