Package: aggregateBioVar Version: 1.21.0 Command: /Library/Frameworks/R.framework/Resources/bin/R CMD INSTALL aggregateBioVar StartedAt: 2025-11-13 15:12:16 -0500 (Thu, 13 Nov 2025) EndedAt: 2025-11-13 15:12:25 -0500 (Thu, 13 Nov 2025) EllapsedTime: 8.4 seconds RetCode: 0 Status: OK