Package: aggregateBioVar Version: 1.21.0 Command: /Library/Frameworks/R.framework/Resources/bin/R CMD check --install=check:aggregateBioVar.install-out.txt --library=/Library/Frameworks/R.framework/Resources/library --no-vignettes --timings aggregateBioVar_1.21.0.tar.gz StartedAt: 2025-11-14 18:22:44 -0500 (Fri, 14 Nov 2025) EndedAt: 2025-11-14 18:24:00 -0500 (Fri, 14 Nov 2025) EllapsedTime: 76.1 seconds RetCode: 0 Status: OK CheckDir: aggregateBioVar.Rcheck Warnings: 0