Package: aggregateBioVar Version: 1.21.0 Command: /Library/Frameworks/R.framework/Resources/bin/R CMD build --keep-empty-dirs --no-resave-data aggregateBioVar StartedAt: 2025-11-13 15:39:00 -0500 (Thu, 13 Nov 2025) EndedAt: 2025-11-13 15:39:31 -0500 (Thu, 13 Nov 2025) EllapsedTime: 31.4 seconds RetCode: 0 Status: OK PackageFile: aggregateBioVar_1.21.0.tar.gz PackageFileSize: 1.257 MiB