Package: affylmGUI Version: 1.85.0 Command: /home/biocbuild/bbs-3.23-bioc/R/bin/R CMD build --keep-empty-dirs --no-resave-data affylmGUI StartedAt: 2025-11-14 16:09:06 -0500 (Fri, 14 Nov 2025) EndedAt: 2025-11-14 16:09:30 -0500 (Fri, 14 Nov 2025) EllapsedTime: 24.0 seconds RetCode: 0 Status: OK PackageFile: affylmGUI_1.85.0.tar.gz PackageFileSize: 1.758 MiB