Package: affylmGUI Version: 1.85.0 Command: /Library/Frameworks/R.framework/Resources/bin/R CMD INSTALL affylmGUI StartedAt: 2025-11-14 15:09:25 -0500 (Fri, 14 Nov 2025) EndedAt: 2025-11-14 15:09:35 -0500 (Fri, 14 Nov 2025) EllapsedTime: 9.7 seconds RetCode: 0 Status: OK