Package: affylmGUI Version: 1.85.0 Command: /Library/Frameworks/R.framework/Resources/bin/R CMD build --keep-empty-dirs --no-resave-data affylmGUI StartedAt: 2025-11-14 15:35:44 -0500 (Fri, 14 Nov 2025) EndedAt: 2025-11-14 15:35:57 -0500 (Fri, 14 Nov 2025) EllapsedTime: 12.1 seconds RetCode: 0 Status: OK PackageFile: affylmGUI_1.85.0.tar.gz PackageFileSize: 1.758 MiB