Package: affylmGUI Version: 1.85.0 Maintainer: Gordon Smyth MaintainerEmail: smyth at wehi.edu.au git_url: https://git.bioconductor.org/packages/affylmGUI git_branch: devel git_last_commit: 6df4f72 git_last_commit_date: 2025-10-29 09:54:46 -0500 (Wed, 29 Oct 2025)