Package: affycoretools Version: 1.83.0 Command: /home/biocbuild/bbs-3.23-bioc/R/bin/R CMD INSTALL affycoretools StartedAt: 2025-11-14 15:49:54 -0500 (Fri, 14 Nov 2025) EndedAt: 2025-11-14 15:50:53 -0500 (Fri, 14 Nov 2025) EllapsedTime: 59.4 seconds RetCode: 0 Status: OK