Package: affycoretools Version: 1.83.0 Command: /home/biocbuild/bbs-3.23-bioc/R/bin/R CMD build --keep-empty-dirs --no-resave-data affycoretools StartedAt: 2025-11-14 16:09:01 -0500 (Fri, 14 Nov 2025) EndedAt: 2025-11-14 16:10:38 -0500 (Fri, 14 Nov 2025) EllapsedTime: 97.1 seconds RetCode: 0 Status: OK PackageFile: affycoretools_1.83.0.tar.gz PackageFileSize: 6.605 MiB