Package: affycoretools Version: 1.83.0 Command: /Library/Frameworks/R.framework/Resources/bin/R CMD build --keep-empty-dirs --no-resave-data affycoretools StartedAt: 2025-11-13 15:38:50 -0500 (Thu, 13 Nov 2025) EndedAt: 2025-11-13 15:39:28 -0500 (Thu, 13 Nov 2025) EllapsedTime: 38.4 seconds RetCode: 0 Status: OK PackageFile: affycoretools_1.83.0.tar.gz PackageFileSize: 6.594 MiB