Package: affycoretools Version: 1.83.0 Command: rm -rf affycoretools.buildbin-libdir && mkdir affycoretools.buildbin-libdir && /Users/biocbuild/BBS/utils/build-universal.sh affycoretools_1.83.0.tar.gz /Library/Frameworks/R.framework/Resources/bin/R affycoretools.buildbin-libdir StartedAt: 2025-11-13 23:26:54 -0500 (Thu, 13 Nov 2025) EndedAt: 2025-11-13 23:27:24 -0500 (Thu, 13 Nov 2025) EllapsedTime: 29.6 seconds RetCode: 0 Status: OK PackageFile: affycoretools_1.83.0.tgz PackageFileSize: 577.3 KiB