Package: affycoretools Version: 1.83.0 Maintainer: James W. MacDonald MaintainerEmail: jmacdon at u.washington.edu git_url: https://git.bioconductor.org/packages/affycoretools git_branch: devel git_last_commit: c6a0b37 git_last_commit_date: 2025-10-29 09:57:11 -0500 (Wed, 29 Oct 2025)