Package: affyPLM Version: 1.87.0 Command: /home/biocbuild/bbs-3.23-bioc/R/bin/R CMD build --keep-empty-dirs --no-resave-data affyPLM StartedAt: 2025-11-21 16:08:42 -0500 (Fri, 21 Nov 2025) EndedAt: 2025-11-21 16:10:24 -0500 (Fri, 21 Nov 2025) EllapsedTime: 102.1 seconds RetCode: 0 Status: OK PackageFile: affyPLM_1.87.0.tar.gz PackageFileSize: 7.157 MiB