Package: affyPLM Version: 1.87.0 Command: /Library/Frameworks/R.framework/Resources/bin/R CMD INSTALL affyPLM StartedAt: 2025-11-14 15:08:52 -0500 (Fri, 14 Nov 2025) EndedAt: 2025-11-14 15:09:01 -0500 (Fri, 14 Nov 2025) EllapsedTime: 8.3 seconds RetCode: 0 Status: OK