Package: affyPLM Version: 1.87.0 Command: /Library/Frameworks/R.framework/Resources/bin/R CMD build --keep-empty-dirs --no-resave-data affyPLM StartedAt: 2025-11-14 15:35:48 -0500 (Fri, 14 Nov 2025) EndedAt: 2025-11-14 15:37:06 -0500 (Fri, 14 Nov 2025) EllapsedTime: 78.8 seconds RetCode: 0 Status: OK PackageFile: affyPLM_1.87.0.tar.gz PackageFileSize: 6.29 MiB