Back to Build/check report for BioC 3.23:   simplified   long
[A]BCDEFGHIJKLMNOPQRSTUVWXYZ

This page was generated on 2025-11-13 11:32 -0500 (Thu, 13 Nov 2025).

HostnameOSArch (*)R versionInstalled pkgs
kjohnson3macOS 13.7.7 Venturaarm64R Under development (unstable) (2025-11-04 r88984) -- "Unsuffered Consequences" 4013
Click on any hostname to see more info about the system (e.g. compilers)      (*) as reported by 'uname -p', except on Windows and Mac OS X

All results for package affyPLM


To the developers/maintainers of the affyPLM package:
- Allow up to 24 hours (and sometimes 48 hours) for your latest push to git@git.bioconductor.org:packages/affyPLM.git to reflect on this report. See Troubleshooting Build Report for more information.
- Use the following Renviron settings to reproduce errors and warnings.
- If 'R CMD check' started to fail recently on the Linux builder(s) over a missing dependency, add the missing dependency to 'Suggests:' in your DESCRIPTION file. See Renviron.bioc for more information.

raw results

Package 31/2325HostnameOS / ArchINSTALLBUILDCHECKBUILD BIN
affyPLM 1.87.0  (landing page)
Ben Bolstad
Snapshot Date: 2025-11-12 13:40 -0500 (Wed, 12 Nov 2025)
git_url: https://git.bioconductor.org/packages/affyPLM
git_branch: devel
git_last_commit: 53a03e9
git_last_commit_date: 2025-10-29 09:53:58 -0500 (Wed, 29 Oct 2025)
kjohnson3macOS 13.7.7 Ventura / arm64  OK    OK    OK    OK  YES



Results for Bioconductor software packages that depend directly on package affyPLM

QUICK STATSOS / ArchINSTALLBUILDCHECKBUILD BIN
kjohnson3macOS 13.7.7 Ventura / arm64
003
003
0003
003
Package 1/3HostnameOS / ArchINSTALLBUILDCHECKBUILD BIN
affylmGUI 1.85.0  (landing page)
Gordon Smyth
git_last_commit: 6df4f72
git_last_commit_date: 2025-10-29 09:54:46 -0500
kjohnson3macOS 13.7.7 Ventura / arm64  OK    OK    OK    OK  YES
Package 2/3HostnameOS / ArchINSTALLBUILDCHECKBUILD BIN
arrayQualityMetrics 3.67.0  (landing page)
Mike Smith
git_last_commit: 39eac6d
git_last_commit_date: 2025-10-29 09:59:44 -0500
kjohnson3macOS 13.7.7 Ventura / arm64  OK    OK    OK    OK  NO, package depends on 'beadarray' which is not available
Package 3/3HostnameOS / ArchINSTALLBUILDCHECKBUILD BIN
mimager 1.35.0  (landing page)
Aaron Wolen
git_last_commit: 86a8e49
git_last_commit_date: 2025-10-29 10:36:18 -0500
kjohnson3macOS 13.7.7 Ventura / arm64  OK    OK    OK    OK  YES