Package: adverSCarial Version: 1.9.0 Command: /home/biocbuild/bbs-3.23-bioc/R/bin/R CMD INSTALL adverSCarial StartedAt: 2025-11-14 15:16:45 -0500 (Fri, 14 Nov 2025) EndedAt: 2025-11-14 15:16:48 -0500 (Fri, 14 Nov 2025) EllapsedTime: 3.4 seconds RetCode: 0 Status: OK