Package: adverSCarial Version: 1.9.0 Command: /home/biocbuild/bbs-3.23-bioc/R/bin/R CMD build --keep-empty-dirs --no-resave-data adverSCarial StartedAt: 2025-11-14 16:08:38 -0500 (Fri, 14 Nov 2025) EndedAt: 2025-11-14 16:09:01 -0500 (Fri, 14 Nov 2025) EllapsedTime: 23.0 seconds RetCode: 0 Status: OK PackageFile: adverSCarial_1.9.0.tar.gz PackageFileSize: 169.1 KiB