Package: adverSCarial Version: 1.9.0 Command: /Library/Frameworks/R.framework/Resources/bin/R CMD INSTALL adverSCarial StartedAt: 2025-11-14 15:08:42 -0500 (Fri, 14 Nov 2025) EndedAt: 2025-11-14 15:08:45 -0500 (Fri, 14 Nov 2025) EllapsedTime: 2.4 seconds RetCode: 0 Status: OK